BEGIN:VCALENDAR
VERSION:2.0
CALSCALE:GREGORIAN
METHOD:PUBLISH
PRODID://RMFW//212830
BEGIN:VEVENT
DTSTAMP:20260425T102258
VTIMEZONE:America/Denver
DTSTART:20261212T200000Z
DTEND:20261212T223000Z
UID:212830
SUMMARY:YA Birds of a Feather
LOCATION:Valdez-Perry Library, 4690 Vine St, Denver, CO, 80216
DESCRIPTION:YA Birds of a Feather\n\n12/12/26 01:00 PM MST\n - 12/12/26 03:30 PM MST\Description:\nThe RMFW Young Adult “Birds of a Feather” group is an informal, monthly gathering of writers of YA stories to connect and have conversations about writing for young adults, the industry, books, or related topics. No need to Register or RSVP. Just show up and meet other YA writers like you! Email Kelley@KelleyLindberg.com if you have questions.\n\n	Time: The second Saturday of every month, 1:00 pm – 3:30 pm\n	Location: Valdez-Perry Library, 4690 Vine St, Denver\n\n\Location:\nValdez-Perry Library\n4690 Vine St\nDenver, CO 80216
X-ALT-DESC;FMTTYPE=text/html:YA Birds of a Feather<br /><br />12/12/26 01:00 PM MST - 12/12/26 03:30 PM MST<br />Description:<br />The RMFW Young Adult &ldquo;Birds of a Feather&rdquo; group is an informal, monthly gathering of writers of YA stories to connect and have conversations about writing for young adults, the industry, books, or related topics. <strong>No need to Register or RSVP</strong>. Just show up and meet other YA writers like you! Email&nbsp;<a href="mailto:Kelley@KelleyLindberg.com" title="mailto:Kelley@KelleyLindberg.com">Kelley@KelleyLindberg.com</a>&nbsp;if you have questions.
<ul>
	<li>Time: The second Saturday of every month, 1:00 pm &ndash; 3:30 pm</li>
	<li>Location: Valdez-Perry Library, 4690 Vine St, Denver</li>
</ul>
<br />Location:<br />Valdez-Perry Library<br />4690 Vine St<br />Denver, CO 80216
PRIORITY:3
TRANSP:TRANSPARENT
BEGIN:VALARM
TRIGGER:-PT5M
ACTION:DISPLAY
DESCRIPTION:Reminder
END:VALARM
END:VEVENT
END:VCALENDAR
